Workbook

Sheet 조사서식
A1: No. | B1: HS Code | C1: HS4단위 | D1: 4단위 설명 | E1: HS6단위 | F1: 6단위 설명 | G1: DESCRIPTION | H1: 4분류 (잠정) | I1: 4분류 수정 (잠정) | J1: 확인 | K1: 소관부처 (잠정) | L1: 소관부처 수정 (잠정) | M1: 확인2 | N1: 산업부 소관과 (잠정) | O1: 수정 | P1: 확인3 | Q1: 일반관세율 (17.1.1 기준) | R1: 한-인도 CEPA 관세율 (17.1.1 기준) | S1: 1차 리퀘스트 포함 여부 | T1: 보건상품 분류 | U1: 대인도 수출액 (2015년, USD) | V1: 한-인도 CEPA 협정 관세율 이용 대인도 수출액 (2015년, USD) | W1: 2차 리퀘스트 포함 여부 (복지부 의견) | X1: 2차 리퀘스트 포함 여부 (협회 의견) | Y1: 2차 리퀘스트 포함 여부 (업계 의견) | Z1: 사유
A2: 3847 | B2: 33030010 | C2: 3303 | D2: #N/A | E2: 330300 | F2: 향수와 화장수 | G2: Eau-de-cologne | H2: 공산품 | I2: 공산품 | J2: TRUE | K2: 산업부 / 복지부 | L2: 복지부/산업부 | M2: FALSE | N2: 철강화학과 | O2: 복지부/철강화학과 | P2: FALSE | Q2: 10 | R2: EXC | S2: 1st Req | T2: =VLOOKUP($C2, 대인도RCEP리퀘스트!$E$2:$G$1004, 2, FALSE) -> 화장품 | U2: =IFERROR(VLOOKUP(표2[[#This Row],[HS Code]], '2015대인도수출액'!$B$2:$D$3672, 2, FALSE), 0) -> 5085.79 | V2: =IFERROR(VLOOKUP(표2[[#This Row],[HS Code]], '2015대인도수출액'!$B$2:$D$3672, 3, FALSE), 0) -> 0 | W2: =IF(AND(OR(표2[[#This Row],[1차 리퀘스트 포함 여부]]<>"-", 표2[[#This Row],[ 대인도 수출액 (2015년, USD)]]>=10000), 표2[[#This Row],[한-인도 CEPA 관세율 (17.1.1 기준)]]<>0), "O", "") -> O | X2: O
A3: 3848 | B3: 33030020 | C3: 3303 | D3: #N/A | E3: 330300 | F3: 향수와 화장수 | G3: Rose water | H3: 공산품 | I3: 공산품 | J3: TRUE | K3: 산업부 / 복지부 | L3: 복지부/산업부 | M3: FALSE | N3: 철강화학과 | O3: 복지부/철강화학과 | P3: FALSE | Q3: 10 | R3: EXC | S3: 1st Req | T3: =VLOOKUP($C3, 대인도RCEP리퀘스트!$E$2:$G$1004, 2, FALSE) -> 화장품 | U3: =IFERROR(VLOOKUP(표2[[#This Row],[HS Code]], '2015대인도수출액'!$B$2:$D$3672, 2, FALSE), 0) -> 0 | V3: =IFERROR(VLOOKUP(표2[[#This Row],[HS Code]], '2015대인도수출액'!$B$2:$D$3672, 3, FALSE), 0) -> 0 | W3: =IF(AND(OR(표2[[#This Row],[1차 리퀘스트 포함 여부]]<>"-", 표2[[#This Row],[ 대인도 수출액 (2015년, USD)]]>=10000), 표2[[#This Row],[한-인도 CEPA 관세율 (17.1.1 기준)]]<>0), "O", "") -> O | X3: O

Sheet 대인도RCEP리퀘스트
A1: No | B1: HS2012 | C1: HS2017 | D1: HS 6 digit | E1: HS 4 digit | F1: HSK6 매칭 | G1: HS 6 digit 추출 | H1: HSK8 매칭 | I1: 품목명(HSK6) | J1: 품목명(HSK10) | K1: Description | L1: MFN 2014 | M1: RCEP 1차 양허 | N1: 한-인도 CEPA | O1: 부처명 표기 | P1: 리퀘스트 양허유형 - 즉철/3년/5년/7년/10년 | Q1: 리퀘스트 우선순위 | R1: 리퀘스트 구체사유
A2: 944 | B2: 12119011 | C2: #N/A | D2: 121190 | E2: =LEFT(표1[[#This Row],[HS 6 digit]], 4) -> 1211 | F2: 의약품 | G2: 의약(원) | I2: 기타 | K2: ---- Ambrette seeds | L2: 0.3 | N2: RED | O2: 보건복지부
A3: 945 | B3: 12119012 | C3: #N/A | D3: 121190 | E3: =LEFT(표1[[#This Row],[HS 6 digit]], 4) -> 1211 | F3: 의약품 | G3: 의약(원) | I3: 기타 | K3: ---- Nux vomica dried ripe seeds | L3: 0.3 | N3: RED | O3: 보건복지부
A4: 946 | B4: 12119013 | C4: #N/A | D4: 121190 | E4: =LEFT(표1[[#This Row],[HS 6 digit]], 4) -> 1211 | F4: 의약품 | G4: 의약(원) | I4: 기타 | K4: ---- Psyllium seed (isobgul) | L4: 0.3 | N4: RED | O4: 보건복지부
A5: 947 | B5: 12119014 | C5: #N/A | D5: 121190 | E5: =LEFT(표1[[#This Row],[HS 6 digit]], 4) -> 1211 | F5: 의약품 | G5: 의약(원) | I5: 기타 | K5: ---- Neem seed | L5: 0.3 | N5: RED | O5: 보건복지부
A6: 948 | B6: 12119015 | C6: #N/A | D6: 121190 | E6: =LEFT(표1[[#This Row],[HS 6 digit]], 4) -> 1211 | F6: 의약품 | G6: 의약(원) | I6: 기타 | K6: ---- Jojoba seed | L6: 0.3 | N6: RED | O6: 보건복지부
A7: 949 | B7: 12119019 | C7: #N/A | D7: 121190 | E7: =LEFT(표1[[#This Row],[HS 6 digit]], 4) -> 1211 | F7: 의약품 | G7: 의약(원) | I7: 기타 | K7: ---- Other | L7: 0.3 | N7: RED | O7: 보건복지부
A8: 950 | B8: 12119021 | C8: #N/A | D8: 121190 | E8: =LEFT(표1[[#This Row],[HS 6 digit]], 4) -> 1211 | F8: 의약품 | G8: 의약(원) | I8: 기타 | K8: ---- Beladona leaves | L8: 0.3 | N8: RED | O8: 보건복지부
A9: 951 | B9: 12119022 | C9: #N/A | D9: 121190 | E9: =LEFT(표1[[#This Row],[HS 6 digit]], 4) -> 1211 | F9: 의약품 | G9: 의약(원) | I9: 기타 | K9: ---- Senna leaves and pads | L9: 0.3 | N9: RED | O9: 보건복지부
A10: 952 | B10: 12119023 | C10: #N/A | D10: 121190 | E10: =LEFT(표1[[#This Row],[HS 6 digit]], 4) -> 1211 | F10: 의약품 | G10: 의약(원) | I10: 기타 | K10: ---- Neem leaves, powder | L10: 0.3 | N10: RED | O10: 보건복지부
A11: 953 | B11: 12119024 | C11: #N/A | D11: 121190 | E11: =LEFT(표1[[#This Row],[HS 6 digit]], 4) -> 1211 | F11: 의약품 | G11: 의약(원) | I11: 기타 | K11: ---- Gymnema powder | L11: 0.3 | N11: RED | O11: 보건복지부
A12: 954 | B12: 12119025 | C12: #N/A | D12: 121190 | E12: =LEFT(표1[[#This Row],[HS 6 digit]], 4) -> 1211 | F12: 의약품 | G12: 의약(원) | I12: 기타 | K12: ---- Cubeb powder | L12: 0.3 | N12: RED | O12: 보건복지부
A13: 955 | B13: 12119026 | C13: #N/A | D13: 121190 | E13: =LEFT(표1[[#This Row],[HS 6 digit]], 4) -> 1211 | F13: 의약품 | G13: 의약(원) | I13: 기타 | K13: ---- Pyrethrum | L13: 0.3 | N13: RED | O13: 보건복지부
... A38: 980 | B38: 12119099 | C38: #N/A | D38: 121190 | E38: =LEFT(표1[[#This Row],[HS 6 digit]], 4) -> 1211 | F38: 의약품 | G38: 의약(원) | I38: 기타 | K38: ---- Other | L38: 0.3 | N38: RED | O38: 보건복지부
A39: 1022 | B39: 13021200 | C39: #N/A | D39: 130212 | E39: =LEFT(표1[[#This Row],[HS 6 digit]], 4) -> 1302 | F39: 의약품 | G39: 의약(원) | H39: 의약품 | I39: 감초의 액즙과 엑스 | J39: 감초로만든것 | K39: -- Of liquorice | L39: 0.3 | N39: RED | O39: 보건복지부
A40: 1702 | B40: 25202010 | C40: #N/A | D40: 252020 | E40: =LEFT(표1[[#This Row],[HS 6 digit]], 4) -> 2520 | F40: 의료기기 | G40: 의용 | H40: 의료기기 | I40: 플라스터(plaster) | J40: 치과용으로사용하기위하여특별히하소하거나미세하게분쇄한것 | K40: --- Calcined | L40: 0.1 | N40: E-8 | O40: 보건복지부 | P40: 즉철 | R40: 한인도 CEPA 철폐 예정
A41: 1703 | B41: 25202090 | C41: #N/A | D41: 252020 | E41: =LEFT(표1[[#This Row],[HS 6 digit]], 4) -> 2520 | F41: 의료기기 | G41: 의용 | I41: 플라스터(plaster) | K41: --- Other | L41: 0.1 | N41: E-8 | O41: 보건복지부 | P41: 즉철 | R41: 한인도 CEPA 철폐 예정
A42: 1966 | B42: 28100010 | C42: #N/A | D42: 281000 | E42: =LEFT(표1[[#This Row],[HS 6 digit]], 4) -> 2810 | F42: 의약품 | G42: 의약(원) | I42: 붕소의산화물과붕산 | K42: --- Oxides of boron | L42: 0.1 | N42: #N/A | O42: 보건복지부 | Q42: 3
A43: 1967 | B43: 28100020 | C43: #N/A | D43: 281000 | E43: =LEFT(표1[[#This Row],[HS 6 digit]], 4) -> 2810 | F43: 의약품 | G43: 의약(원) | I43: 붕소의산화물과붕산 | K43: --- Boric acid | L43: 0.1 | N43: #N/A | O43: 보건복지부
A44: 1977 | B44: 28112910 | C44: #N/A | D44: 281129 | E44: =LEFT(표1[[#This Row],[HS 6 digit]], 4) -> 2811 | F44: 의약품 | G44: 의약(원) | I44: 기타 | K44: --- Arsenic pentoxide | L44: 0.1 | N44: #N/A | O44: 보건복지부
A45: 1978 | B45: 28112920 | C45: #N/A | D45: 281129 | E45: =LEFT(표1[[#This Row],[HS 6 digit]], 4) -> 2811 | F45: 의약품 | G45: 의약(원) | H45: 의약품 | I45: 기타 | J45: 아산화질소 | K45: --- Arsenic trioxide | L45: 0.1 | N45: #N/A | O45: 보건복지부
A46: 1979 | B46: 28112930 | C46: #N/A | D46: 281129 | E46: =LEFT(표1[[#This Row],[HS 6 digit]], 4) -> 2811 | F46: 의약품 | G46: 의약(원) | I46: 기타 | K46: --- Nitrous oxide | L46: 0.1 | N46: #N/A | O46: 보건복지부
A47: 1980 | B47: 28112940 | C47: #N/A | D47: 281129 | E47: =LEFT(표1[[#This Row],[HS 6 digit]], 4) -> 2811 | F47: 의약품 | G47: 의약(원) | I47: 기타 | K47: --- Carbon monoxide | L47: 0.1 | N47: #N/A | O47: 보건복지부
A48: 1981 | B48: 28112950 | C48: #N/A | D48: 281129 | E48: =LEFT(표1[[#This Row],[HS 6 digit]], 4) -> 2811 | F48: 의약품 | G48: 의약(원) | I48: 기타 | K48: --- Sulphur trioxide (sulphuric anhydride) | L48: 0.1 | N48: #N/A | O48: 보건복지부
A49: 1982 | B49: 28112990 | C49: #N/A | D49: 281129 | E49: =LEFT(표1[[#This Row],[HS 6 digit]], 4) -> 2811 | F49: 의약품 | G49: 의약(원) | I49: 기타 | K49: --- Other | L49: 0.1 | N49: #N/A | O49: 보건복지부
A50: 2119 | B50: 28332910 | C50: #N/A | D50: 283329 | E50: =LEFT(표1[[#This Row],[HS 6 digit]], 4) -> 2833 | F50: 의약품 | G50: 의약(원) | I50: 기타 | K50: --- Ferrous sulphate | L50: 0.1 | N50: #N/A | O50: 보건복지부
A51: 2120 | B51: 28332930 | C51: #N/A | D51: 283329 | E51: =LEFT(표1[[#This Row],[HS 6 digit]], 4) -> 2833 | F51: 의약품 | G51: 의약(원) | I51: 기타 | K51: --- Quinidine sulphate | L51: 0.1 | N51: #N/A | O51: 보건복지부
A52: 2121 | B52: 28332940 | C52: #N/A | D52: 283329 | E52: =LEFT(표1[[#This Row],[HS 6 digit]], 4) -> 2833 | F52: 의약품 | G52: 의약(원) | I52: 기타 | K52: --- Manganese sulphate | L52: 0.1 | N52: #N/A | O52: 보건복지부
A53: 2122 | B53: 28332950 | C53: #N/A | D53: 283329 | E53: =LEFT(표1[[#This Row],[HS 6 digit]], 4) -> 2833 | F53: 의약품 | G53: 의약(원) | I53: 기타 | K53: --- Strontium sulphate | L53: 0.1 | N53: #N/A | O53: 보건복지부
A54: 2123 | B54: 28332990 | C54: #N/A | D54: 283329 | E54: =LEFT(표1[[#This Row],[HS 6 digit]], 4) -> 2833 | F54: 의약품 | G54: 의약(원) | H54: 의약품 | I54: 기타 | J54: 기타 | K54: --- Other | L54: 0.1 | N54: #N/A | O54: 보건복지부
A55: 2136 | B55: 28351010 | C55: #N/A | D55: 283510 | E55: =LEFT(표1[[#This Row],[HS 6 digit]], 4) -> 2835 | F55: 의약품 | G55: 의약(원) | H55: 의약품 | I55: 포스피네이트(하이포아인산염)와포스포네이트(아인산염) | J55: 하이포아인산칼슘 | K55: --- Calcium hypophosphite | L55: 0.1 | N55: #N/A | O55: 보건복지부
A56: 2137 | B56: 28351020 | C56: #N/A | D56: 283510 | E56: =LEFT(표1[[#This Row],[HS 6 digit]], 4) -> 2835 | F56: 의약품 | G56: 의약(원) | I56: 포스피네이트(하이포아인산염)와포스포네이트(아인산염) | K56: --- Magnesium hypophosphite | L56: 0.1 | N56: #N/A | O56: 보건복지부
A57: 2138 | B57: 28351090 | C57: #N/A | D57: 283510 | E57: =LEFT(표1[[#This Row],[HS 6 digit]], 4) -> 2835 | F57: 의약품 | G57: 의약(원) | I57: 포스피네이트(하이포아인산염)와포스포네이트(아인산염) | K57: --- Other | L57: 0.1 | N57: #N/A | O57: 보건복지부
A58: 2166 | B58: 28371910 | C58: #N/A | D58: 283719 | E58: =LEFT(표1[[#This Row],[HS 6 digit]], 4) -> 2837 | F58: 의약품 | G58: 의약(원) | I58: 기타 | K58: --- Potassium cyanide | L58: 0.1 | N58: #N/A | O58: 보건복지부
A59: 2167 | B59: 28371920 | C59: #N/A | D59: 283719 | E59: =LEFT(표1[[#This Row],[HS 6 digit]], 4) -> 2837 | F59: 의약품 | G59: 의약(원) | H59: 의약품 | I59: 기타 | J59: 산화시안화물 | K59: --- Double cyanide of potassium & sodium | L59: 0.1 | N59: #N/A | O59: 보건복지부
A60: 2168 | B60: 28371990 | C60: #N/A | D60: 283719 | E60: =LEFT(표1[[#This Row],[HS 6 digit]], 4) -> 2837 | F60: 의약품 | G60: 의약(원) | I60: 기타 | K60: --- Other | L60: 0.1 | N60: #N/A | O60: 보건복지부
A61: 2185 | B61: 28415010 | C61: #N/A | D61: 284150 | E61: =LEFT(표1[[#This Row],[HS 6 digit]], 4) -> 2841 | F61: 의약품 | G61: 의약(원) | I61: 그밖의크롬산염과중크롬산염,과산화크롬산염 | K61: --- Sodium chromates | L61: 0.1 | N61: #N/A | O61: 보건복지부
A62: 2186 | B62: 28415090 | C62: #N/A | D62: 284150 | E62: =LEFT(표1[[#This Row],[HS 6 digit]], 4) -> 2841 | F62: 의약품 | G62: 의약(원) | H62: 의약품 | I62: 그밖의크롬산염과중크롬산염,과산화크롬산염 | J62: 기타 | K62: --- Other | L62: 0.1 | N62: #N/A | O62: 보건복지부
A63: 2195 | B63: 28419000 | C63: #N/A | D63: 284190 | E63: =LEFT(표1[[#This Row],[HS 6 digit]], 4) -> 2841 | F63: 의약품 | G63: 의약(원) | I63: 기타 | K63: - Other | L63: 0.1 | N63: #N/A | O63: 보건복지부
A64: 2197 | B64: 28429010 | C64: #N/A | D64: 284290 | E64: =LEFT(표1[[#This Row],[HS 6 digit]], 4) -> 2842 | F64: 의약품 | G64: 의약(원) | I64: 기타 | K64: --- Arsenites & arsenates | L64: 0.1 | N64: #N/A | O64: 보건복지부
A65: 2198 | B65: 28429020 | C65: #N/A | D65: 284290 | E65: =LEFT(표1[[#This Row],[HS 6 digit]], 4) -> 2842 | F65: 의약품 | G65: 의약(원) | I65: 기타 | K65: --- Bichromates and dichromates | L65: 0.1 | N65: #N/A | O65: 보건복지부
A66: 2199 | B66: 28429090 | C66: #N/A | D66: 284290 | E66: =LEFT(표1[[#This Row],[HS 6 digit]], 4) -> 2842 | F66: 의약품 | G66: 의약(원) | H66: 의약품 | I66: 기타 | J66: 기타 | K66: --- Other | L66: 0.1 | N66: #N/A | O66: 보건복지부
A67: 2246 | B67: 28521000 | C67: #N/A | D67: 285210 | E67: =LEFT(표1[[#This Row],[HS 6 digit]], 4) -> 2852 | F67: 의약품 | G67: 의약(원) | I67: 화학적으로단일한것 | K67: - Chemically defined | L67: 0.1 | N67: #N/A | O67: 보건복지부
A68: 2259 | B68: 29012910 | C68: #N/A | D68: 290129 | E68: =LEFT(표1[[#This Row],[HS 6 digit]], 4) -> 2901 | F68: 의약품 | G68: 의약(원) | I68: 기타 | K68: --- Acetylene, whether or not in dissolved condition | L68: 0.1 | N68: #N/A | O68: 보건복지부
A69: 2260 | B69: 29012920 | C69: #N/A | D69: 290129 | E69: =LEFT(표1[[#This Row],[HS 6 digit]], 4) -> 2901 | F69: 의약품 | G69: 의약(원) | I69: 기타 | K69: --- Heptene (Heptylene) | L69: 0.1 | N69: #N/A | O69: 보건복지부
A70: 2261 | B70: 29012990 | C70: #N/A | D70: 290129 | E70: =LEFT(표1[[#This Row],[HS 6 digit]], 4) -> 2901 | F70: 의약품 | G70: 의약(원) | H70: 의약품 | I70: 기타 | J70: 기타 | K70: --- Other | L70: 0.1 | N70: #N/A | O70: 보건복지부
A71: 2306 | B71: 29037711 | C71: #N/A | D71: 290377 | E71: =LEFT(표1[[#This Row],[HS 6 digit]], 4) -> 2903 | F71: 의약품 | G71: 의약(원) | I71: 기타(불소와염소만으로퍼할로겐화한것) | K71: ---- Chlorotrifluoromethane | L71: 0.1 | N71: #N/A | O71: 보건복지부
A72: 2307 | B72: 29037712 | C72: #N/A | D72: 290377 | E72: =LEFT(표1[[#This Row],[HS 6 digit]], 4) -> 2903 | F72: 의약품 | G72: 의약(원) | I72: 기타(불소와염소만으로퍼할로겐화한것) | K72: ---- Dichlorodifluoromethane | L72: 0.1 | N72: #N/A | O72: 보건복지부
A73: 2308 | B73: 29037713 | C73: #N/A | D73: 290377 | E73: =LEFT(표1[[#This Row],[HS 6 digit]], 4) -> 2903 | F73: 의약품 | G73: 의약(원) | I73: 기타(불소와염소만으로퍼할로겐화한것) | K73: ---- Trichlorofluoromethane | L73: 0.1 | N73: #N/A | O73: 보건복지부
A74: 2309 | B74: 29037721 | C74: #N/A | D74: 290377 | E74: =LEFT(표1[[#This Row],[HS 6 digit]], 4) -> 2903 | F74: 의약품 | G74: 의약(원) | I74: 기타(불소와염소만으로퍼할로겐화한것) | K74: ---- Chlorpentafluoroethane | L74: 0.1 | N74: #N/A | O74: 보건복지부
A75: 2310 | B75: 29037722 | C75: #N/A | D75: 290377 | E75: =LEFT(표1[[#This Row],[HS 6 digit]], 4) -> 2903 | F75: 의약품 | G75: 의약(원) | I75: 기타(불소와염소만으로퍼할로겐화한것) | K75: ---- 1,2-Dichlorotetrafluoroethane | L75: 0.1 | N75: #N/A | O75: 보건복지부
A76: 2311 | B76: 29037723 | C76: #N/A | D76: 290377 | E76: =LEFT(표1[[#This Row],[HS 6 digit]], 4) -> 2903 | F76: 의약품 | G76: 의약(원) | I76: 기타(불소와염소만으로퍼할로겐화한것) | K76: ---- Trichlorotrifluoroethane | L76: 0.1 | N76: #N/A | O76: 보건복지부
A77: 2312 | B77: 29037724 | C77: #N/A | D77: 290377 | E77: =LEFT(표1[[#This Row],[HS 6 digit]], 4) -> 2903 | F77: 의약품 | G77: 의약(원) | I77: 기타(불소와염소만으로퍼할로겐화한것) | K77: ---- Tetrachlorodifluoroethane | L77: 0.1 | N77: #N/A | O77: 보건복지부
A78: 2313 | B78: 29037725 | C78: #N/A | D78: 290377 | E78: =LEFT(표1[[#This Row],[HS 6 digit]], 4) -> 2903 | F78: 의약품 | G78: 의약(원) | I78: 기타(불소와염소만으로퍼할로겐화한것) | K78: ---- Pentachlorofluoroethane | L78: 0.1 | N78: #N/A | O78: 보건복지부
A79: 2314 | B79: 29037731 | C79: #N/A | D79: 290377 | E79: =LEFT(표1[[#This Row],[HS 6 digit]], 4) -> 2903 | F79: 의약품 | G79: 의약(원) | I79: 기타(불소와염소만으로퍼할로겐화한것) | K79: ---- Chloroheptafluoropropane | L79: 0.1 | N79: #N/A | O79: 보건복지부
A80: 2315 | B80: 29037732 | C80: #N/A | D80: 290377 | E80: =LEFT(표1[[#This Row],[HS 6 digit]], 4) -> 2903 | F80: 의약품 | G80: 의약(원) | I80: 기타(불소와염소만으로퍼할로겐화한것) | K80: ---- Dichlorohexafluoropropane | L80: 0.1 | N80: #N/A | O80: 보건복지부
A81: 2316 | B81: 29037733 | C81: #N/A | D81: 290377 | E81: =LEFT(표1[[#This Row],[HS 6 digit]], 4) -> 2903 | F81: 의약품 | G81: 의약(원) | I81: 기타(불소와염소만으로퍼할로겐화한것) | K81: ---- Trichloropentafluoropropane | L81: 0.1 | N81: #N/A | O81: 보건복지부
A82: 2317 | B82: 29037734 | C82: #N/A | D82: 290377 | E82: =LEFT(표1[[#This Row],[HS 6 digit]], 4) -> 2903 | F82: 의약품 | G82: 의약(원) | I82: 기타(불소와염소만으로퍼할로겐화한것) | K82: ---- Tetrachlorotetrafluoropropane | L82: 0.1 | N82: #N/A | O82: 보건복지부
... A85: 2320 | B85: 29037737 | C85: #N/A | D85: 290377 | E85: =LEFT(표1[[#This Row],[HS 6 digit]], 4) -> 2903 | F85: 의약품 | G85: 의약(원) | I85: 기타(불소와염소만으로퍼할로겐화한것) | K85: ---- Heptachlorofluoropropane | L85: 0.1 | N85: #N/A | O85: 보건복지부
A86: 2321 | B86: 29037790 | C86: #N/A | D86: 290377 | E86: =LEFT(표1[[#This Row],[HS 6 digit]], 4) -> 2903 | F86: 의약품 | G86: 의약(원) | H86: 의약품 | I86: 기타(불소와염소만으로퍼할로겐화한것) | J86: 기타 | K86: --- Other derivatives, perhalogenated only with fluorine and chlorine | L86: 0.1 | N86: #N/A | O86: 보건복지부
A87: 2325 | B87: 29038200 | C87: #N/A | D87: 290382 | E87: =LEFT(표1[[#This Row],[HS 6 digit]], 4) -> 2903 | F87: 의약품 | G87: 의약(원) | H87: 의약품 | I87: 앨드린(ISO),클로르덴(ISO),헵타클로르(ISO) | J87: 앨드린(ISO),클로르덴(ISO),헵타클로르(ISO) | K87: -- Aldrin (ISO), chlordane (ISO) and heptachlor (ISO) | L87: 0.1 | N87: #N/A | O87: 보건복지부
A88: 2326 | B88: 29038900 | C88: #N/A | D88: 290389 | E88: =LEFT(표1[[#This Row],[HS 6 digit]], 4) -> 2903 | F88: 의약품 | G88: 의약(원) | H88: 의약품 | I88: 기타 | J88: 기타 | K88: -- Other | L88: 0.1 | N88: #N/A | O88: 보건복지부
A89: 2327 | B89: 29039110 | C89: #N/A | D89: 290391 | E89: =LEFT(표1[[#This Row],[HS 6 digit]], 4) -> 2903 | F89: 의약품 | G89: 의약(원) | I89: 클로로벤젠,오르토-디클로로벤젠,파라-디클로로벤젠 | K89: --- Chlorbenzene (monochlor) | L89: 0.1 | N89: #N/A | O89: 보건복지부
A90: 2328 | B90: 29039120 | C90: #N/A | D90: 290391 | E90: =LEFT(표1[[#This Row],[HS 6 digit]], 4) -> 2903 | F90: 의약품 | G90: 의약(원) | I90: 클로로벤젠,오르토-디클로로벤젠,파라-디클로로벤젠 | K90: --- o-dichlorobenzene (Orthodichlorobenzene) | L90: 0.1 | N90: #N/A | O90: 보건복지부
A91: 2329 | B91: 29039130 | C91: #N/A | D91: 290391 | E91: =LEFT(표1[[#This Row],[HS 6 digit]], 4) -> 2903 | F91: 의약품 | G91: 의약(원) | I91: 클로로벤젠,오르토-디클로로벤젠,파라-디클로로벤젠 | K91: --- p-dichlorobenzene (Paradichlorobenzene) | L91: 0.1 | N91: #N/A | O91: 보건복지부
A92: 2389 | B92: 29054300 | C92: #N/A | D92: 290543 | E92: =LEFT(표1[[#This Row],[HS 6 digit]], 4) -> 2905 | F92: 의약품 | G92: 의약(원) | H92: 의약품 | I92: 만니톨 | J92: 만니톨 | K92: -- Mannitol | L92: 0.3 | N92: EXC | O92: 보건복지부
A93: 2391 | B93: 29054500 | C93: 29054500 | D93: 290545 | E93: =LEFT(표1[[#This Row],[HS 6 digit]], 4) -> 2905 | F93: 의약품 | G93: 의약(원) | H93: 의약품 | I93: 글리세롤 | J93: 글리세롤 | K93: -- Glycerol | L93: 0.1 | N93: EXC | O93: 보건복지부
A94: 2392 | B94: 29054900 | C94: 29054900 | D94: 290549 | E94: =LEFT(표1[[#This Row],[HS 6 digit]], 4) -> 2905 | F94: 의약품 | G94: 의약(원) | H94: 의약품 | I94: 기타 다가알코올 | J94: 기타 | K94: -- Other | L94: 0.1 | N94: EXC | O94: 보건복지부
A95: 2394 | B95: 29055900 | C95: #N/A | D95: 290559 | E95: =LEFT(표1[[#This Row],[HS 6 digit]], 4) -> 2905 | F95: 의약품 | G95: 의약(원) | H95: 의약품 | I95: 기타 | J95: 기타 | K95: -- Other | L95: 0.1 | N95: EXC | O95: 보건복지부
A96: 2395 | B96: 29061100 | C96: #N/A | D96: 290611 | E96: =LEFT(표1[[#This Row],[HS 6 digit]], 4) -> 2906 | F96: 의약품 | G96: 의약(원) | H96: 의약품 | I96: 멘톨 | J96: 멘톨 | K96: -- Menthol | L96: 0.1 | N96: E-8 | O96: 보건복지부 | P96: 즉철 | R96: 한인도 CEPA 철폐 예정
A97: 2397 | B97: 29061310 | C97: #N/A | D97: 290613 | E97: =LEFT(표1[[#This Row],[HS 6 digit]], 4) -> 2906 | F97: 의약품 | G97: 의약(원) | I97: 스테롤과이노시톨 | K97: --- Cholesterol | L97: 0.1 | N97: E-8 | O97: 보건복지부 | P97: 즉철 | R97: 한인도 CEPA 철폐 예정
A98: 2398 | B98: 29061390 | C98: #N/A | D98: 290613 | E98: =LEFT(표1[[#This Row],[HS 6 digit]], 4) -> 2906 | F98: 의약품 | G98: 의약(원) | I98: 스테롤과이노시톨 | K98: --- Other | L98: 0.1 | N98: E-8 | O98: 보건복지부 | P98: 즉철 | R98: 한인도 CEPA 철폐 예정
A99: 2399 | B99: 29061910 | C99: #N/A | D99: 290619 | E99: =LEFT(표1[[#This Row],[HS 6 digit]], 4) -> 2906 | F99: 의약품 | G99: 의약(원) | H99: 의약품 | I99: 기타 | J99: 보르네올 | K99: --- Berneol | L99: 0.1 | N99: E-8 | O99: 보건복지부 | P99: 즉철 | R99: 한인도 CEPA 철폐 예정
A100: 2400 | B100: 29061990 | C100: #N/A | D100: 290619 | E100: =LEFT(표1[[#This Row],[HS 6 digit]], 4) -> 2906 | F100: 의약품 | G100: 의약(원) | I100: 기타 | K100: --- Other | L100: 0.1 | N100: E-8 | O100: 보건복지부 | P100: 즉철 | R100: 한인도 CEPA 철폐 예정
A101: 2414 | B101: 29071910 | C101: #N/A | D101: 290719 | E101: =LEFT(표1[[#This Row],[HS 6 digit]], 4) -> 2907 | F101: 의약품 | G101: 의약(원) | I101: 기타 | K101: --- o-Phenyl phenols | L101: 0.1 | N101: EXC | O101: 보건복지부
A102: 2415 | B102: 29071920 | C102: #N/A | D102: 290719 | E102: =LEFT(표1[[#This Row],[HS 6 digit]], 4) -> 2907 | F102: 의약품 | G102: 의약(원) | I102: 기타 | K102: --- p-Phenyl phenols | L102: 0.1 | N102: EXC | O102: 보건복지부
A103: 2416 | B103: 29071930 | C103: #N/A | D103: 290719 | E103: =LEFT(표1[[#This Row],[HS 6 digit]], 4) -> 2907 | F103: 의약품 | G103: 의약(원) | I103: 기타 | K103: --- Thymol | L103: 0.1 | N103: EXC | O103: 보건복지부
A104: 2417 | B104: 29071940 | C104: 29071940 | D104: 290719 | E104: =LEFT(표1[[#This Row],[HS 6 digit]], 4) -> 2907 | F104: 의약품 | G104: 의약(원) | I104: 기타 | K104: --- Para tartiary butyl phenol | L104: 0.1 | N104: EXC | O104: 보건복지부
A105: 2418 | B105: 29071950 | C105: #N/A | D105: 290719 | E105: =LEFT(표1[[#This Row],[HS 6 digit]], 4) -> 2907 | F105: 의약품 | G105: 의약(원) | I105: 기타 | K105: --- Alkyl phenols | L105: 0.1 | N105: EXC | O105: 보건복지부
A106: 2419 | B106: 29071990 | C106: 29071990 | D106: 290719 | E106: =LEFT(표1[[#This Row],[HS 6 digit]], 4) -> 2907 | F106: 의약품 | G106: 의약(원) | H106: 의약품 | I106: 기타 | J106: 기타 | K106: --- Other | L106: 0.1 | N106: EXC | O106: 보건복지부
A107: 2444 | B107: 29094900 | C107: 29094900 | D107: 290949 | E107: =LEFT(표1[[#This Row],[HS 6 digit]], 4) -> 2909 | F107: 의약품 | G107: 의약(원) | I107: 기타 | K107: -- Other | L107: 0.1 | N107: #N/A | O107: 보건복지부
A108: 2445 | B108: 29095010 | C108: #N/A | D108: 290950 | E108: =LEFT(표1[[#This Row],[HS 6 digit]], 4) -> 2909 | F108: 의약품 | G108: 의약(원) | H108: 의약품 | I108: 에테르페놀,에테르알코올페놀과이들의할로겐화유도체ㆍ술폰화유도체ㆍ니트로화유도체ㆍ니트로소화유도체 | J108: 오이게놀 | K108: --- Guaiacol | L108: 0.1 | N108: E-8 | O108: 보건복지부 | P108: 즉철 | R108: 한인도 CEPA 철폐 예정
A109: 2446 | B109: 29095020 | C109: #N/A | D109: 290950 | E109: =LEFT(표1[[#This Row],[HS 6 digit]], 4) -> 2909 | F109: 의약품 | G109: 의약(원) | H109: 의약품 | I109: 에테르페놀,에테르알코올페놀과이들의할로겐화유도체ㆍ술폰화유도체ㆍ니트로화유도체ㆍ니트로소화유도체 | J109: 이소오이게놀 | K109: --- Isoeugenol | L109: 0.1 | N109: E-8 | O109: 보건복지부 | P109: 즉철 | R109: 한인도 CEPA 철폐 예정
A110: 2447 | B110: 29095030 | C110: #N/A | D110: 290950 | E110: =LEFT(표1[[#This Row],[HS 6 digit]], 4) -> 2909 | F110: 의약품 | G110: 의약(원) | I110: 에테르페놀,에테르알코올페놀과이들의할로겐화유도체ㆍ술폰화유도체ㆍ니트로화유도체ㆍ니트로소화유도체 | K110: --- Potassium guaiacol sulphonate | L110: 0.1 | N110: E-8 | O110: 보건복지부 | P110: 즉철 | R110: 한인도 CEPA 철폐 예정
A111: 2448 | B111: 29095090 | C111: #N/A | D111: 290950 | E111: =LEFT(표1[[#This Row],[HS 6 digit]], 4) -> 2909 | F111: 의약품 | G111: 의약(원) | H111: 의약품 | I111: 에테르페놀,에테르알코올페놀과이들의할로겐화유도체ㆍ술폰화유도체ㆍ니트로화유도체ㆍ니트로소화유도체 | J111: 기타 | K111: --- Other | L111: 0.1 | N111: E-8 | O111: 보건복지부 | P111: 즉철 | R111: 한인도 CEPA 철폐 예정
A112: 2449 | B112: 29096000 | C112: #N/A | D112: 290960 | E112: =LEFT(표1[[#This Row],[HS 6 digit]], 4) -> 2909 | F112: 의약품 | G112: 의약(원) | I112: 과산화알코올ㆍ과산화에테르ㆍ과산화케톤과이들의할로겐화유도체ㆍ술폰화유도체ㆍ니트로화유도체ㆍ니트로소화유도체 | K112: - Alcohol peroxides, ether peroxides, ketone peroxides and their halogenated, sulphonated, nitrated or nitrosated derivatives | L112: 0.1 | N112: E-8 | O112: 보건복지부 | P112: 즉철 | R112: 한인도 CEPA 철폐 예정
A113: 2450 | B113: 29101000 | C113: #N/A | D113: 291010 | E113: =LEFT(표1[[#This Row],[HS 6 digit]], 4) -> 2910 | F113: 의약품 | G113: 의약(원) | H113: 의약품 | I113: 옥시란 (에텔렌옥사이드 ) | J113: 옥시란(에틸렌옥사이드) | K113: - Oxirane (ethylene oxide) | L113: 0.1 | N113: E-8 | O113: 보건복지부 | P113: 즉철 | R113: 한인도 CEPA 철폐 예정
A114: 2454 | B114: 29109000 | C114: #N/A | D114: 291090 | E114: =LEFT(표1[[#This Row],[HS 6 digit]], 4) -> 2910 | F114: 의약품 | G114: 의약(원) | H114: 의약품 | I114: 기타 에폭시드 .에폭시알코올 .에폭시페놀 ,그들의 할로겐화유도체 등 | J114: 기타 | K114: - Other | L114: 0.1 | N114: SEN | O114: 보건복지부
A115: 2458 | B115: 29121200 | C115: #N/A | D115: 291212 | E115: =LEFT(표1[[#This Row],[HS 6 digit]], 4) -> 2912 | F115: 의약품 | G115: 의약(원) | H115: 의약품 | I115: 에탄알 (아세트알데히드 ) | J115: 에탄알(아세트알데히드) | K115: -- Ethanal (acetaldehyde) | L115: 0.1 | N115: E-8 | O115: 보건복지부 | P115: 즉철 | R115: 한인도 CEPA 철폐 예정
A116: 2459 | B116: 29121910 | C116: #N/A | D116: 291219 | E116: =LEFT(표1[[#This Row],[HS 6 digit]], 4) -> 2912 | F116: 의약품 | G116: 의약(원) | I116: 기타 | K116: --- Crotonaldehyde | L116: 0.1 | N116: SEN | O116: 보건복지부
A117: 2460 | B117: 29121920 | C117: #N/A | D117: 291219 | E117: =LEFT(표1[[#This Row],[HS 6 digit]], 4) -> 2912 | F117: 의약품 | G117: 의약(원) | H117: 의약품 | I117: 기타 | J117: 시틀알 | K117: --- Heptaldehyde (heptanal) | L117: 0.1 | N117: SEN | O117: 보건복지부
A118: 2461 | B118: 29121930 | C118: #N/A | D118: 291219 | E118: =LEFT(표1[[#This Row],[HS 6 digit]], 4) -> 2912 | F118: 의약품 | G118: 의약(원) | I118: 기타 | K118: --- Glyoxal | L118: 0.1 | N118: SEN | O118: 보건복지부
A119: 2462 | B119: 29121990 | C119: #N/A | D119: 291219 | E119: =LEFT(표1[[#This Row],[HS 6 digit]], 4) -> 2912 | F119: 의약품 | G119: 의약(원) | H119: 의약품 | I119: 기타 | J119: 기타 | K119: --- Other | L119: 0.1 | N119: SEN | O119: 보건복지부
A120: 2463 | B120: 29122100 | C120: #N/A | D120: 291221 | E120: =LEFT(표1[[#This Row],[HS 6 digit]], 4) -> 2912 | F120: 의약품 | G120: 의약(원) | H120: 의약품 | I120: 벤즈알데히드 | J120: 벤즈알데히드 | K120: -- Benzaldehyde | L120: 0.1 | N120: SEN | O120: 보건복지부
A121: 2464 | B121: 29122910 | C121: #N/A | D121: 291229 | E121: =LEFT(표1[[#This Row],[HS 6 digit]], 4) -> 2912 | F121: 의약품 | G121: 의약(원) | I121: 기타 | K121: --- Cinnamic aldehyde | L121: 0.1 | N121: EXC | O121: 보건복지부
A122: 2465 | B122: 29122920 | C122: #N/A | D122: 291229 | E122: =LEFT(표1[[#This Row],[HS 6 digit]], 4) -> 2912 | F122: 의약품 | G122: 의약(원) | I122: 기타 | K122: --- Phenyl acetaldehyde | L122: 0.1 | N122: EXC | O122: 보건복지부
A123: 2466 | B123: 29122990 | C123: #N/A | D123: 291229 | E123: =LEFT(표1[[#This Row],[HS 6 digit]], 4) -> 2912 | F123: 의약품 | G123: 의약(원) | H123: 의약품 | I123: 기타 | J123: 기타 | K123: --- Other | L123: 0.1 | N123: EXC | O123: 보건복지부
A124: 2467 | B124: 29124100 | C124: #N/A | D124: 291241 | E124: =LEFT(표1[[#This Row],[HS 6 digit]], 4) -> 2912 | F124: 의약품 | G124: 의약(원) | H124: 의약품 | I124: 바닐린 (4-히드록시 -3-메톡시벤즈알데히드 ) | J124: 바닐린(4-히드록시-3-메톡시벤즈알데히드) | K124: -- Vanillin (4-hydroxy-3-methoxybenzaldehyde) | L124: 0.1 | N124: E-8 | O124: 보건복지부 | P124: 즉철 | R124: 한인도 CEPA 철폐 예정
A125: 2468 | B125: 29124200 | C125: #N/A | D125: 291242 | E125: =LEFT(표1[[#This Row],[HS 6 digit]], 4) -> 2912 | F125: 의약품 | G125: 의약(원) | H125: 의약품 | I125: 에틸바닐린 (3-에톡시 -4-히드록시벤즈알데히드 ) | J125: 에틸바닐린(3-에톡시-4-히드록시벤즈알데히드) | K125: -- Ethylvanillin (3-ethoxy-4-hydroxy benzal dehyde) | L125: 0.1 | N125: E-8 | O125: 보건복지부 | P125: 즉철 | R125: 한인도 CEPA 철폐 예정
A126: 2469 | B126: 29124910 | C126: #N/A | D126: 291249 | E126: =LEFT(표1[[#This Row],[HS 6 digit]], 4) -> 2912 | F126: 의약품 | G126: 의약(원) | I126: 기타 | K126: --- Anisic aldehyde (Anisaldehyde) | L126: 0.1 | N126: E-8 | O126: 보건복지부 | P126: 즉철 | R126: 한인도 CEPA 철폐 예정
...

Sheet 2015대인도수출액
A1: Details of Import from Korea overall and under CEPA
A2: Calendar year | B2: CTH | C2: Total import from Korea (Assesable Value ) in USD | D2: Total import from Korea under India Korea CEPA (Assessable value) in USD
A3: 2015 | B3: 1012100 | C3: 51700.8 | D3: 0
A4: 2015 | B4: 2032900 | C4: 206.04 | D4: 0
A5: 2015 | B5: 2091000 | C5: 1307.95 | D5: 0
A6: 2015 | B6: 3028990 | C6: 7060.91 | D6: 0
A7: 2015 | B7: 3043900 | C7: 2585.6 | D7: 0
A8: 2015 | B8: 3044100 | C8: 318.15 | D8: 0
A9: 2015 | B9: 3049900 | C9: 5615.6 | D9: 0
A10: 2015 | B10: 3057900 | C10: 303 | D10: 0
A11: 2015 | B11: 4022990 | C11: 2415.92 | D11: 0
A12: 2015 | B12: 4029990 | C12: 5782.22 | D12: 0
A13: 2015 | B13: 4051000 | C13: 68.94 | D13: 0
A14: 2015 | B14: 6022020 | C14: 20610.1 | D14: 0
... A3672: 2015 | B3672: 98049000 | C3672: 9907.11 | D3672: 0
