Workbook

Sheet 조사서식
A1: No. | B1: HS Code | C1: HS4단위 | D1: 4단위 설명 | E1: HS6단위 | F1: 6단위 설명 | G1: DESCRIPTION | H1: 4분류 (잠정) | I1: 4분류 수정 (잠정) | J1: 확인 | K1: 소관부처 (잠정) | L1: 소관부처 수정 (잠정) | M1: 확인2 | N1: 산업부 소관과 (잠정) | O1: 수정 | P1: 확인3 | Q1: 일반관세율 (17.1.1 기준) | R1: 한-인도 CEPA 관세율 (17.1.1 기준) | S1: 1차 리퀘스트 포함 여부 | T1: 보건상품 분류 | U1: 대인도 수출액 (2015년, USD) | V1: 한-인도 CEPA 협정 관세율 이용 대인도 수출액 (2015년, USD) | W1: 2차 리퀘스트 포함 여부 (복지부 의견) | X1: 2차 리퀘스트 포함 여부 (협회 의견) | Y1: 2차 리퀘스트 포함 여부 (업계 의견) | Z1: 사유
A2: 3847 | B2: 33030010 | C2: 3303 | D2: #N/A | E2: 330300 | F2: 향수와 화장수 | G2: Eau-de-cologne | H2: 공산품 | I2: 공산품 | J2: TRUE | K2: 산업부 / 복지부 | L2: 복지부/산업부 | M2: FALSE | N2: 철강화학과 | O2: 복지부/철강화학과 | P2: FALSE | Q2: 10 | R2: EXC | S2: 1st Req | T2: =VLOOKUP($C2, 대인도RCEP리퀘스트!$E$2:$G$1004, 2, FALSE) -> 화장품 | U2: =IFERROR(VLOOKUP(표2[[#This Row],[HS Code]], '2015대인도수출액'!$B$2:$D$3672, 2, FALSE), 0) -> 5085.79 | V2: =IFERROR(VLOOKUP(표2[[#This Row],[HS Code]], '2015대인도수출액'!$B$2:$D$3672, 3, FALSE), 0) -> 0 | W2: =IF(AND(OR(표2[[#This Row],[1차 리퀘스트 포함 여부]]<>"-", 표2[[#This Row],[ 대인도 수출액 (2015년, USD)]]>=10000), 표2[[#This Row],[한-인도 CEPA 관세율 (17.1.1 기준)]]<>0), "O", "") -> O | X2: O
A3: 3848 | B3: 33030020 | C3: 3303 | D3: #N/A | E3: 330300 | F3: 향수와 화장수 | G3: Rose water | H3: 공산품 | I3: 공산품 | J3: TRUE | K3: 산업부 / 복지부 | L3: 복지부/산업부 | M3: FALSE | N3: 철강화학과 | O3: 복지부/철강화학과 | P3: FALSE | Q3: 10 | R3: EXC | S3: 1st Req | T3: =VLOOKUP($C3, 대인도RCEP리퀘스트!$E$2:$G$1004, 2, FALSE) -> 화장품 | U3: =IFERROR(VLOOKUP(표2[[#This Row],[HS Code]], '2015대인도수출액'!$B$2:$D$3672, 2, FALSE), 0) -> 0 | V3: =IFERROR(VLOOKUP(표2[[#This Row],[HS Code]], '2015대인도수출액'!$B$2:$D$3672, 3, FALSE), 0) -> 0 | W3: =IF(AND(OR(표2[[#This Row],[1차 리퀘스트 포함 여부]]<>"-", 표2[[#This Row],[ 대인도 수출액 (2015년, USD)]]>=10000), 표2[[#This Row],[한-인도 CEPA 관세율 (17.1.1 기준)]]<>0), "O", "") -> O | X3: O

Sheet 대인도RCEP리퀘스트
A1: No | B1: HS2012 | C1: HS2017 | D1: HS 6 digit | E1: HS 4 digit | F1: HSK6 매칭 | G1: HS 6 digit 추출 | H1: HSK8 매칭 | I1: 품목명(HSK6) | J1: 품목명(HSK10) | K1: Description | L1: MFN 2014 | M1: RCEP 1차 양허 | N1: 한-인도 CEPA | O1: 부처명 표기 | P1: 리퀘스트 양허유형 - 즉철/3년/5년/7년/10년 | Q1: 리퀘스트 우선순위 | R1: 리퀘스트 구체사유
A2: 944 | B2: 12119011 | C2: #N/A | D2: 121190 | E2: =LEFT(표1[[#This Row],[HS 6 digit]], 4) -> 1211 | F2: 의약품 | G2: 의약(원) | I2: 기타 | K2: ---- Ambrette seeds | L2: 0.3 | N2: RED | O2: 보건복지부
A3: 945 | B3: 12119012 | C3: #N/A | D3: 121190 | E3: =LEFT(표1[[#This Row],[HS 6 digit]], 4) -> 1211 | F3: 의약품 | G3: 의약(원) | I3: 기타 | K3: ---- Nux vomica dried ripe seeds | L3: 0.3 | N3: RED | O3: 보건복지부
A4: 946 | B4: 12119013 | C4: #N/A | D4: 121190 | E4: =LEFT(표1[[#This Row],[HS 6 digit]], 4) -> 1211 | F4: 의약품 | G4: 의약(원) | I4: 기타 | K4: ---- Psyllium seed (isobgul) | L4: 0.3 | N4: RED | O4: 보건복지부
A5: 947 | B5: 12119014 | C5: #N/A | D5: 121190 | E5: =LEFT(표1[[#This Row],[HS 6 digit]], 4) -> 1211 | F5: 의약품 | G5: 의약(원) | I5: 기타 | K5: ---- Neem seed | L5: 0.3 | N5: RED | O5: 보건복지부
A6: 948 | B6: 12119015 | C6: #N/A | D6: 121190 | E6: =LEFT(표1[[#This Row],[HS 6 digit]], 4) -> 1211 | F6: 의약품 | G6: 의약(원) | I6: 기타 | K6: ---- Jojoba seed | L6: 0.3 | N6: RED | O6: 보건복지부
A7: 949 | B7: 12119019 | C7: #N/A | D7: 121190 | E7: =LEFT(표1[[#This Row],[HS 6 digit]], 4) -> 1211 | F7: 의약품 | G7: 의약(원) | I7: 기타 | K7: ---- Other | L7: 0.3 | N7: RED | O7: 보건복지부
A8: 950 | B8: 12119021 | C8: #N/A | D8: 121190 | E8: =LEFT(표1[[#This Row],[HS 6 digit]], 4) -> 1211 | F8: 의약품 | G8: 의약(원) | I8: 기타 | K8: ---- Beladona leaves | L8: 0.3 | N8: RED | O8: 보건복지부
A9: 951 | B9: 12119022 | C9: #N/A | D9: 121190 | E9: =LEFT(표1[[#This Row],[HS 6 digit]], 4) -> 1211 | F9: 의약품 | G9: 의약(원) | I9: 기타 | K9: ---- Senna leaves and pads | L9: 0.3 | N9: RED | O9: 보건복지부
A10: 952 | B10: 12119023 | C10: #N/A | D10: 121190 | E10: =LEFT(표1[[#This Row],[HS 6 digit]], 4) -> 1211 | F10: 의약품 | G10: 의약(원) | I10: 기타 | K10: ---- Neem leaves, powder | L10: 0.3 | N10: RED | O10: 보건복지부
A11: 953 | B11: 12119024 | C11: #N/A | D11: 121190 | E11: =LEFT(표1[[#This Row],[HS 6 digit]], 4) -> 1211 | F11: 의약품 | G11: 의약(원) | I11: 기타 | K11: ---- Gymnema powder | L11: 0.3 | N11: RED | O11: 보건복지부
A12: 954 | B12: 12119025 | C12: #N/A | D12: 121190 | E12: =LEFT(표1[[#This Row],[HS 6 digit]], 4) -> 1211 | F12: 의약품 | G12: 의약(원) | I12: 기타 | K12: ---- Cubeb powder | L12: 0.3 | N12: RED | O12: 보건복지부
A13: 955 | B13: 12119026 | C13: #N/A | D13: 121190 | E13: =LEFT(표1[[#This Row],[HS 6 digit]], 4) -> 1211 | F13: 의약품 | G13: 의약(원) | I13: 기타 | K13: ---- Pyrethrum | L13: 0.3 | N13: RED | O13: 보건복지부
... A38: 980 | B38: 12119099 | C38: #N/A | D38: 121190 | E38: =LEFT(표1[[#This Row],[HS 6 digit]], 4) -> 1211 | F38: 의약품 | G38: 의약(원) | I38: 기타 | K38: ---- Other | L38: 0.3 | N38: RED | O38: 보건복지부
A39: 1022 | B39: 13021200 | C39: #N/A | D39: 130212 | E39: =LEFT(표1[[#This Row],[HS 6 digit]], 4) -> 1302 | F39: 의약품 | G39: 의약(원) | H39: 의약품 | I39: 감초의 액즙과 엑스 | J39: 감초로만든것 | K39: -- Of liquorice | L39: 0.3 | N39: RED | O39: 보건복지부
A40: 1702 | B40: 25202010 | C40: #N/A | D40: 252020 | E40: =LEFT(표1[[#This Row],[HS 6 digit]], 4) -> 2520 | F40: 의료기기 | G40: 의용 | H40: 의료기기 | I40: 플라스터(plaster) | J40: 치과용으로사용하기위하여특별히하소하거나미세하게분쇄한것 | K40: --- Calcined | L40: 0.1 | N40: E-8 | O40: 보건복지부 | P40: 즉철 | R40: 한인도 CEPA 철폐 예정
A41: 1703 | B41: 25202090 | C41: #N/A | D41: 252020 | E41: =LEFT(표1[[#This Row],[HS 6 digit]], 4) -> 2520 | F41: 의료기기 | G41: 의용 | I41: 플라스터(plaster) | K41: --- Other | L41: 0.1 | N41: E-8 | O41: 보건복지부 | P41: 즉철 | R41: 한인도 CEPA 철폐 예정
A42: 1966 | B42: 28100010 | C42: #N/A | D42: 281000 | E42: =LEFT(표1[[#This Row],[HS 6 digit]], 4) -> 2810 | F42: 의약품 | G42: 의약(원) | I42: 붕소의산화물과붕산 | K42: --- Oxides of boron | L42: 0.1 | N42: #N/A | O42: 보건복지부 | Q42: 3
A43: 1967 | B43: 28100020 | C43: #N/A | D43: 281000 | E43: =LEFT(표1[[#This Row],[HS 6 digit]], 4) -> 2810 | F43: 의약품 | G43: 의약(원) | I43: 붕소의산화물과붕산 | K43: --- Boric acid | L43: 0.1 | N43: #N/A | O43: 보건복지부
A44: 1977 | B44: 28112910 | C44: #N/A | D44: 281129 | E44: =LEFT(표1[[#This Row],[HS 6 digit]], 4) -> 2811 | F44: 의약품 | G44: 의약(원) | I44: 기타 | K44: --- Arsenic pentoxide | L44: 0.1 | N44: #N/A | O44: 보건복지부
A45: 1978 | B45: 28112920 | C45: #N/A | D45: 281129 | E45: =LEFT(표1[[#This Row],[HS 6 digit]], 4) -> 2811 | F45: 의약품 | G45: 의약(원) | H45: 의약품 | I45: 기타 | J45: 아산화질소 | K45: --- Arsenic trioxide | L45: 0.1 | N45: #N/A | O45: 보건복지부
A46: 1979 | B46: 28112930 | C46: #N/A | D46: 281129 | E46: =LEFT(표1[[#This Row],[HS 6 digit]], 4) -> 2811 | F46: 의약품 | G46: 의약(원) | I46: 기타 | K46: --- Nitrous oxide | L46: 0.1 | N46: #N/A | O46: 보건복지부
A47: 1980 | B47: 28112940 | C47: #N/A | D47: 281129 | E47: =LEFT(표1[[#This Row],[HS 6 digit]], 4) -> 2811 | F47: 의약품 | G47: 의약(원) | I47: 기타 | K47: --- Carbon monoxide | L47: 0.1 | N47: #N/A | O47: 보건복지부
A48: 1981 | B48: 28112950 | C48: #N/A | D48: 281129 | E48: =LEFT(표1[[#This Row],[HS 6 digit]], 4) -> 2811 | F48: 의약품 | G48: 의약(원) | I48: 기타 | K48: --- Sulphur trioxide (sulphuric anhydride) | L48: 0.1 | N48: #N/A | O48: 보건복지부
A49: 1982 | B49: 28112990 | C49: #N/A | D49: 281129 | E49: =LEFT(표1[[#This Row],[HS 6 digit]], 4) -> 2811 | F49: 의약품 | G49: 의약(원) | I49: 기타 | K49: --- Other | L49: 0.1 | N49: #N/A | O49: 보건복지부
A50: 2119 | B50: 28332910 | C50: #N/A | D50: 283329 | E50: =LEFT(표1[[#This Row],[HS 6 digit]], 4) -> 2833 | F50: 의약품 | G50: 의약(원) | I50: 기타 | K50: --- Ferrous sulphate | L50: 0.1 | N50: #N/A | O50: 보건복지부
A51: 2120 | B51: 28332930 | C51: #N/A | D51: 283329 | E51: =LEFT(표1[[#This Row],[HS 6 digit]], 4) -> 2833 | F51: 의약품 | G51: 의약(원) | I51: 기타 | K51: --- Quinidine sulphate | L51: 0.1 | N51: #N/A | O51: 보건복지부
A52: 2121 | B52: 28332940 | C52: #N/A | D52: 283329 | E52: =LEFT(표1[[#This Row],[HS 6 digit]], 4) -> 2833 | F52: 의약품 | G52: 의약(원) | I52: 기타 | K52: --- Manganese sulphate | L52: 0.1 | N52: #N/A | O52: 보건복지부
A53: 2122 | B53: 28332950 | C53: #N/A | D53: 283329 | E53: =LEFT(표1[[#This Row],[HS 6 digit]], 4) -> 2833 | F53: 의약품 | G53: 의약(원) | I53: 기타 | K53: --- Strontium sulphate | L53: 0.1 | N53: #N/A | O53: 보건복지부
A54: 2123 | B54: 28332990 | C54: #N/A | D54: 283329 | E54: =LEFT(표1[[#This Row],[HS 6 digit]], 4) -> 2833 | F54: 의약품 | G54: 의약(원) | H54: 의약품 | I54: 기타 | J54: 기타 | K54: --- Other | L54: 0.1 | N54: #N/A | O54: 보건복지부
A55: 2136 | B55: 28351010 | C55: #N/A | D55: 283510 | E55: =LEFT(표1[[#This Row],[HS 6 digit]], 4) -> 2835 | F55: 의약품 | G55: 의약(원) | H55: 의약품 | I55: 포스피네이트(하이포아인산염)와포스포네이트(아인산염) | J55: 하이포아인산칼슘 | K55: --- Calcium hypophosphite | L55: 0.1 | N55: #N/A | O55: 보건복지부
A56: 2137 | B56: 28351020 | C56: #N/A | D56: 283510 | E56: =LEFT(표1[[#This Row],[HS 6 digit]], 4) -> 2835 | F56: 의약품 | G56: 의약(원) | I56: 포스피네이트(하이포아인산염)와포스포네이트(아인산염) | K56: --- Magnesium hypophosphite | L56: 0.1 | N56: #N/A | O56: 보건복지부
A57: 2138 | B57: 28351090 | C57: #N/A | D57: 283510 | E57: =LEFT(표1[[#This Row],[HS 6 digit]], 4) -> 2835 | F57: 의약품 | G57: 의약(원) | I57: 포스피네이트(하이포아인산염)와포스포네이트(아인산염) | K57: --- Other | L57: 0.1 | N57: #N/A | O57: 보건복지부
A58: 2166 | B58: 28371910 | C58: #N/A | D58: 283719 | E58: =LEFT(표1[[#This Row],[HS 6 digit]], 4) -> 2837 | F58: 의약품 | G58: 의약(원) | I58: 기타 | K58: --- Potassium cyanide | L58: 0.1 | N58: #N/A | O58: 보건복지부
A59: 2167 | B59: 28371920 | C59: #N/A | D59: 283719 | E59: =LEFT(표1[[#This Row],[HS 6 digit]], 4) -> 2837 | F59: 의약품 | G59: 의약(원) | H59: 의약품 | I59: 기타 | J59: 산화시안화물 | K59: --- Double cyanide of potassium & sodium | L59: 0.1 | N59: #N/A | O59: 보건복지부
A60: 2168 | B60: 28371990 | C60: #N/A | D60: 283719 | E60: =LEFT(표1[[#This Row],[HS 6 digit]], 4) -> 2837 | F60: 의약품 | G60: 의약(원) | I60: 기타 | K60: --- Other | L60: 0.1 | N60: #N/A | O60: 보건복지부
A61: 2185 | B61: 28415010 | C61: #N/A | D61: 284150 | E61: =LEFT(표1[[#This Row],[HS 6 digit]], 4) -> 2841 | F61: 의약품 | G61: 의약(원) | I61: 그밖의크롬산염과중크롬산염,과산화크롬산염 | K61: --- Sodium chromates | L61: 0.1 | N61: #N/A | O61: 보건복지부
A62: 2186 | B62: 28415090 | C62: #N/A | D62: 284150 | E62: =LEFT(표1[[#This Row],[HS 6 digit]], 4) -> 2841 | F62: 의약품 | G62: 의약(원) | H62: 의약품 | I62: 그밖의크롬산염과중크롬산염,과산화크롬산염 | J62: 기타 | K62: --- Other | L62: 0.1 | N62: #N/A | O62: 보건복지부
A63: 2195 | B63: 28419000 | C63: #N/A | D63: 284190 | E63: =LEFT(표1[[#This Row],[HS 6 digit]], 4) -> 2841 | F63: 의약품 | G63: 의약(원) | I63: 기타 | K63: - Other | L63: 0.1 | N63: #N/A | O63: 보건복지부
A64: 2197 | B64: 28429010 | C64: #N/A | D64: 284290 | E64: =LEFT(표1[[#This Row],[HS 6 digit]], 4) -> 2842 | F64: 의약품 | G64: 의약(원) | I64: 기타 | K64: --- Arsenites & arsenates | L64: 0.1 | N64: #N/A | O64: 보건복지부
...

Sheet 2015대인도수출액
A1: Details of Import from Korea overall and under CEPA
A2: Calendar year | B2: CTH | C2: Total import from Korea (Assesable Value ) in USD | D2: Total import from Korea under India Korea CEPA (Assessable value) in USD
A3: 2015 | B3: 1012100 | C3: 51700.8 | D3: 0
A4: 2015 | B4: 2032900 | C4: 206.04 | D4: 0
A5: 2015 | B5: 2091000 | C5: 1307.95 | D5: 0
A6: 2015 | B6: 3028990 | C6: 7060.91 | D6: 0
A7: 2015 | B7: 3043900 | C7: 2585.6 | D7: 0
A8: 2015 | B8: 3044100 | C8: 318.15 | D8: 0
A9: 2015 | B9: 3049900 | C9: 5615.6 | D9: 0
A10: 2015 | B10: 3057900 | C10: 303 | D10: 0
A11: 2015 | B11: 4022990 | C11: 2415.92 | D11: 0
A12: 2015 | B12: 4029990 | C12: 5782.22 | D12: 0
A13: 2015 | B13: 4051000 | C13: 68.94 | D13: 0
A14: 2015 | B14: 6022020 | C14: 20610.1 | D14: 0
... A3672: 2015 | B3672: 98049000 | C3672: 9907.11 | D3672: 0
